BEGIN:VCALENDAR
VERSION:2.0
PRODID:-//Tukios.com/
BEGIN:VEVENT
UID:ac161c30-dcbf-4ab6-85a3-e8f8c9f1d536@www.hornefuneralservice.com
DTSTAMP:20260424T202529Z
DTSTART:20260428T170000Z
DTEND:20260428T180000Z
SUMMARY:Graveside Service
DESCRIPTION:
URL:https://www.hornefuneralservice.com/obituaries/reva-steele
LOCATION: 2880 North Franklin Street  Christiansburg VA 24073
GEO:37.1688;-80.4243
END:VEVENT
END:VCALENDAR