BEGIN:VCALENDAR
VERSION:2.0
PRODID:-//Tukios.com/
BEGIN:VEVENT
UID:39737268-12f5-4abd-adab-3c76ec0821b4@www.hornefuneralservice.com
DTSTAMP:20260422T090142Z
DTSTART:20260418T210000Z
DTEND:20260418T220000Z
SUMMARY:Memorial Service
DESCRIPTION:
URL:https://www.hornefuneralservice.com/obituaries/james-norwood
LOCATION:Private Residence 2682 Hickman Hollow Road  Shawsville VA 24162
GEO:37.1010841;-80.247349
END:VEVENT
END:VCALENDAR