BEGIN:VCALENDAR
VERSION:2.0
PRODID:-//Tukios.com/
BEGIN:VEVENT
UID:1c76a4a4-2457-4e56-aa62-327dbfe1aa0b@www.hornefuneralservice.com
DTSTAMP:20260423T185039Z
DTSTART:20260425T200000Z
DTEND:20260425T210000Z
SUMMARY:Celebration of Life
DESCRIPTION:
URL:https://www.hornefuneralservice.com/obituaries/david-hrdlicka
LOCATION:Our Saviour Lutheran Church 1845 Cambria St NE  Christiansburg 
	VA 24073
GEO:37.1507456;-80.4091463
END:VEVENT
END:VCALENDAR